BEGIN:VCALENDAR
VERSION:2.0
PRODID:https://walddoerfer-sv.de/
BEGIN:VTIMEZONE
TZID:Europe/Berlin
X-LIC-LOCATION:Europe/Berlin
BEGIN:DAYLIGHT
TZOFFSETFROM:+0100
TZOFFSETTO:+0200
TZNAME:CEST
DTSTART:19700329T020000
RRULE:FREQ=YEARLY;BYDAY=-1SU;BYMONTH=3
END:DAYLIGHT
BEGIN:STANDARD
TZOFFSETFROM:+0200
TZOFFSETTO:+0100
TZNAME:CET
DTSTART:19701025T030000
RRULE:FREQ=YEARLY;BYDAY=-1SU;BYMONTH=10
END:STANDARD
END:VTIMEZONE
BEGIN:VEVENT
LOCATION:Beachsportanlage Berner Au
UID:2eb070ce70c3cf5c9814f313fa10720c@walddoerfer-sv.de
SUMMARY:Teamparty 2023 (Interne Veranstaltung)
DESCRIPTION:
CLASS:PUBLIC
DTSTART;TZID=Europe/Berlin:20230624T190000
DTEND;TZID=Europe/Berlin:20230624T230000
DTSTAMP:20230623T114652
END:VEVENT
END:VCALENDAR