BEGIN:VCALENDAR
VERSION:2.0
PRODID:https://walddoerfer-sv.de/
BEGIN:VTIMEZONE
TZID:Europe/Berlin
X-LIC-LOCATION:Europe/Berlin
BEGIN:DAYLIGHT
TZOFFSETFROM:+0100
TZOFFSETTO:+0200
TZNAME:CEST
DTSTART:19700329T020000
RRULE:FREQ=YEARLY;BYDAY=-1SU;BYMONTH=3
END:DAYLIGHT
BEGIN:STANDARD
TZOFFSETFROM:+0200
TZOFFSETTO:+0100
TZNAME:CET
DTSTART:19701025T030000
RRULE:FREQ=YEARLY;BYDAY=-1SU;BYMONTH=10
END:STANDARD
END:VTIMEZONE
BEGIN:VEVENT
LOCATION:Walddörfer Sportforum, Gym 3
UID:e179f1dfdfa621299d079f490dc31dfc@walddoerfer-sv.de
SUMMARY:Versammlung der fördernden Mitglieder 2020
DESCRIPTION:
CLASS:PUBLIC
DTSTART;TZID=Europe/Berlin:20200225T193000
DTEND;TZID=Europe/Berlin:20200225T194500
DTSTAMP:20200102T134232
END:VEVENT
END:VCALENDAR